Package: crlmm Version: 1.64.0 Command: F:\biocbuild\bbs-3.20-bioc\R\bin\R.exe CMD check --no-multiarch --install=check:crlmm.install-out.txt --library=F:\biocbuild\bbs-3.20-bioc\R\library --no-vignettes --timings crlmm_1.64.0.tar.gz StartedAt: 2025-02-04 00:43:52 -0500 (Tue, 04 Feb 2025) EndedAt: 2025-02-04 00:54:19 -0500 (Tue, 04 Feb 2025) EllapsedTime: 626.9 seconds RetCode: 0 Status: WARNINGS CheckDir: crlmm.Rcheck Warnings: 1