Package: crlmm Version: 1.64.0 Command: /home/biocbuild/R/R/bin/R CMD build --keep-empty-dirs --no-resave-data crlmm StartedAt: 2025-02-03 22:54:14 -0000 (Mon, 03 Feb 2025) EndedAt: 2025-02-03 22:57:06 -0000 (Mon, 03 Feb 2025) EllapsedTime: 172.1 seconds RetCode: 0 Status: OK PackageFile: crlmm_1.64.0.tar.gz PackageFileSize: 4.26 MiB