Package: crossmeta Version: 1.32.0 Command: rm -rf crossmeta.buildbin-libdir && mkdir crossmeta.buildbin-libdir && /Users/biocbuild/BBS/utils/build-universal.sh crossmeta_1.32.0.tar.gz /Library/Frameworks/R.framework/Resources/bin/R crossmeta.buildbin-libdir StartedAt: 2025-02-04 12:44:59 -0500 (Tue, 04 Feb 2025) EndedAt: 2025-02-04 12:45:27 -0500 (Tue, 04 Feb 2025) EllapsedTime: 28.1 seconds RetCode: 0 Status: OK PackageFile: crossmeta_1.32.0.tgz PackageFileSize: 2.775 MiB