Package: crossmeta Version: 1.32.0 Command: /Library/Frameworks/R.framework/Resources/bin/R CMD build --keep-empty-dirs --no-resave-data crossmeta StartedAt: 2025-02-03 18:11:45 -0500 (Mon, 03 Feb 2025) EndedAt: 2025-02-03 18:16:01 -0500 (Mon, 03 Feb 2025) EllapsedTime: 256.2 seconds RetCode: 0 Status: OK PackageFile: crossmeta_1.32.0.tar.gz PackageFileSize: 2.951 MiB