Package: crossmeta Version: 1.32.0 Command: /Library/Frameworks/R.framework/Resources/bin/R CMD INSTALL crossmeta StartedAt: 2025-02-03 16:20:40 -0500 (Mon, 03 Feb 2025) EndedAt: 2025-02-03 16:21:04 -0500 (Mon, 03 Feb 2025) EllapsedTime: 23.7 seconds RetCode: 0 Status: OK