Package: crossmeta Version: 1.32.0 Command: /home/biocbuild/bbs-3.20-bioc/R/bin/R CMD build --keep-empty-dirs --no-resave-data --md5 crossmeta StartedAt: 2025-02-03 17:01:28 -0500 (Mon, 03 Feb 2025) EndedAt: 2025-02-03 17:02:52 -0500 (Mon, 03 Feb 2025) EllapsedTime: 84.1 seconds RetCode: 0 Status: OK PackageFile: crossmeta_1.32.0.tar.gz PackageFileSize: 2.953 MiB