Package: crossmeta Version: 1.32.0 Command: rm -rf crossmeta.buildbin-libdir && mkdir crossmeta.buildbin-libdir && F:\biocbuild\bbs-3.20-bioc\R\bin\R.exe CMD INSTALL --build --library=crossmeta.buildbin-libdir crossmeta_1.32.0.tar.gz StartedAt: 2025-02-04 08:17:36 -0500 (Tue, 04 Feb 2025) EndedAt: 2025-02-04 08:18:15 -0500 (Tue, 04 Feb 2025) EllapsedTime: 38.9 seconds RetCode: 0 Status: OK PackageFile: crossmeta_1.32.0.zip PackageFileSize: 2.782 MiB