Package: crossmeta Version: 1.32.0 Command: chmod a+r crossmeta -R && F:\biocbuild\bbs-3.20-bioc\R\bin\R.exe CMD build --keep-empty-dirs --no-resave-data crossmeta StartedAt: 2025-02-03 18:25:29 -0500 (Mon, 03 Feb 2025) EndedAt: 2025-02-03 18:28:04 -0500 (Mon, 03 Feb 2025) EllapsedTime: 154.5 seconds RetCode: 0 Status: OK PackageFile: crossmeta_1.32.0.tar.gz PackageFileSize: 2.951 MiB