Package: crossmeta Version: 1.32.0 Command: F:\biocbuild\bbs-3.20-bioc\R\bin\R.exe CMD INSTALL crossmeta StartedAt: 2025-02-03 16:23:35 -0500 (Mon, 03 Feb 2025) EndedAt: 2025-02-03 16:24:04 -0500 (Mon, 03 Feb 2025) EllapsedTime: 29.4 seconds RetCode: 0 Status: OK