Package: csaw Version: 1.40.0 Command: /Library/Frameworks/R.framework/Resources/bin/R CMD INSTALL csaw StartedAt: 2025-02-03 15:44:52 -0500 (Mon, 03 Feb 2025) EndedAt: 2025-02-03 15:46:09 -0500 (Mon, 03 Feb 2025) EllapsedTime: 76.9 seconds RetCode: 0 Status: OK