Package: csaw Version: 1.40.0 Command: chmod a+r csaw -R && F:\biocbuild\bbs-3.20-bioc\R\bin\R.exe CMD build --keep-empty-dirs --no-resave-data csaw StartedAt: 2025-02-03 18:25:35 -0500 (Mon, 03 Feb 2025) EndedAt: 2025-02-03 18:27:34 -0500 (Mon, 03 Feb 2025) EllapsedTime: 118.9 seconds RetCode: 0 Status: OK PackageFile: csaw_1.40.0.tar.gz PackageFileSize: 389.1 KiB