Package: csaw Version: 1.40.0 Command: /home/biocbuild/R/R/bin/R CMD build --keep-empty-dirs --no-resave-data csaw StartedAt: 2025-02-03 22:54:25 -0000 (Mon, 03 Feb 2025) EndedAt: 2025-02-03 22:56:15 -0000 (Mon, 03 Feb 2025) EllapsedTime: 110.0 seconds RetCode: 0 Status: OK PackageFile: csaw_1.40.0.tar.gz PackageFileSize: 416.2 KiB