Package: csaw Version: 1.40.0 Command: /home/biocbuild/R/R/bin/R CMD INSTALL csaw StartedAt: 2025-02-03 20:37:07 -0000 (Mon, 03 Feb 2025) EndedAt: 2025-02-03 20:38:50 -0000 (Mon, 03 Feb 2025) EllapsedTime: 102.1 seconds RetCode: 0 Status: OK