Package: csdR Version: 1.12.0 Command: /Library/Frameworks/R.framework/Resources/bin/R CMD INSTALL csdR StartedAt: 2025-02-03 17:05:47 -0500 (Mon, 03 Feb 2025) EndedAt: 2025-02-03 17:06:19 -0500 (Mon, 03 Feb 2025) EllapsedTime: 32.4 seconds RetCode: 0 Status: OK