##############################################################################
##############################################################################
###
### Running command:
###
###   F:\biocbuild\bbs-3.20-bioc\R\bin\R.exe CMD INSTALL csdR
###
##############################################################################
##############################################################################


* installing to library 'F:/biocbuild/bbs-3.20-bioc/R/library'
* installing *source* package 'csdR' ...
** using staged installation
** libs
using C++ compiler: 'G__~1.EXE (GCC) 13.3.0'
g++ -std=gnu++17  -I"F:/biocbuild/bbs-3.20-bioc/R/include" -DNDEBUG  -I'F:/biocbuild/bbs-3.20-bioc/R/library/Rcpp/include'   -I"C:/rtools44/x86_64-w64-mingw32.static.posix/include"  -fopenmp   -O2 -Wall  -mfpmath=sse -msse2 -mstackrealign  -c RcppExports.cpp -o RcppExports.o
g++ -std=gnu++17  -I"F:/biocbuild/bbs-3.20-bioc/R/include" -DNDEBUG  -I'F:/biocbuild/bbs-3.20-bioc/R/library/Rcpp/include'   -I"C:/rtools44/x86_64-w64-mingw32.static.posix/include"  -fopenmp   -O2 -Wall  -mfpmath=sse -msse2 -mstackrealign  -c partial_argsort.cpp -o partial_argsort.o
g++ -std=gnu++17  -I"F:/biocbuild/bbs-3.20-bioc/R/include" -DNDEBUG  -I'F:/biocbuild/bbs-3.20-bioc/R/library/Rcpp/include'   -I"C:/rtools44/x86_64-w64-mingw32.static.posix/include"  -fopenmp   -O2 -Wall  -mfpmath=sse -msse2 -mstackrealign  -c summarize_results.cpp -o summarize_results.o
g++ -std=gnu++17  -I"F:/biocbuild/bbs-3.20-bioc/R/include" -DNDEBUG  -I'F:/biocbuild/bbs-3.20-bioc/R/library/Rcpp/include'   -I"C:/rtools44/x86_64-w64-mingw32.static.posix/include"  -fopenmp   -O2 -Wall  -mfpmath=sse -msse2 -mstackrealign  -c welford.cpp -o welford.o
g++ -std=gnu++17 -shared -s -static-libgcc -o csdR.dll tmp.def RcppExports.o partial_argsort.o summarize_results.o welford.o -fopenmp -LC:/rtools44/x86_64-w64-mingw32.static.posix/lib/x64 -LC:/rtools44/x86_64-w64-mingw32.static.posix/lib -LF:/biocbuild/bbs-3.20-bioc/R/bin/x64 -lR
installing to F:/biocbuild/bbs-3.20-bioc/R/library/00LOCK-csdR/00new/csdR/libs/x64
** R
** data
** inst
** byte-compile and prepare package for lazy loading
** help
*** installing help indices
** building package indices
** installing vignettes
** testing if installed package can be loaded from temporary location
** testing if installed package can be loaded from final location
** testing if installed package keeps a record of temporary installation path
* DONE (csdR)