Package: csdR Version: 1.12.0 Command: /home/biocbuild/R/R/bin/R CMD build --keep-empty-dirs --no-resave-data csdR StartedAt: 2025-02-03 22:54:47 -0000 (Mon, 03 Feb 2025) EndedAt: 2025-02-03 22:55:43 -0000 (Mon, 03 Feb 2025) EllapsedTime: 56.0 seconds RetCode: 0 Status: OK PackageFile: csdR_1.12.0.tar.gz PackageFileSize: 1.388 MiB