Package: csdR
Version: 1.12.0
Command: /home/biocbuild/bbs-3.20-bioc/R/bin/R CMD check --install=check:csdR.install-out.txt --library=/home/biocbuild/bbs-3.20-bioc/R/site-library --timings csdR_1.12.0.tar.gz
StartedAt: 2024-11-20 01:08:54 -0500 (Wed, 20 Nov 2024)
EndedAt: 2024-11-20 01:13:20 -0500 (Wed, 20 Nov 2024)
EllapsedTime: 266.3 seconds
RetCode: 0
Status: OK
CheckDir: csdR.Rcheck
Warnings: 0