Package: ctc Version: 1.80.0 Command: rm -rf ctc.buildbin-libdir && mkdir ctc.buildbin-libdir && /Users/biocbuild/BBS/utils/build-universal.sh ctc_1.80.0.tar.gz /Library/Frameworks/R.framework/Resources/bin/R ctc.buildbin-libdir StartedAt: 2025-02-01 14:31:44 -0500 (Sat, 01 Feb 2025) EndedAt: 2025-02-01 14:31:49 -0500 (Sat, 01 Feb 2025) EllapsedTime: 4.5 seconds RetCode: 0 Status: OK PackageFile: ctc_1.80.0.tgz PackageFileSize: 317.8 KiB