Package: ctc Version: 1.80.0 Command: /Library/Frameworks/R.framework/Resources/bin/R CMD build --keep-empty-dirs --no-resave-data ctc StartedAt: 2025-02-03 21:41:40 -0500 (Mon, 03 Feb 2025) EndedAt: 2025-02-03 21:41:49 -0500 (Mon, 03 Feb 2025) EllapsedTime: 9.2 seconds RetCode: 0 Status: OK PackageFile: ctc_1.80.0.tar.gz PackageFileSize: 270.3 KiB