Package: ctc Version: 1.80.0 Command: /Library/Frameworks/R.framework/Resources/bin/R CMD INSTALL ctc StartedAt: 2025-02-03 15:08:35 -0500 (Mon, 03 Feb 2025) EndedAt: 2025-02-03 15:08:40 -0500 (Mon, 03 Feb 2025) EllapsedTime: 5.1 seconds RetCode: 0 Status: OK