Package: ctc Version: 1.80.0 Command: /Library/Frameworks/R.framework/Resources/bin/R CMD build --keep-empty-dirs --no-resave-data ctc StartedAt: 2025-01-30 18:17:34 -0500 (Thu, 30 Jan 2025) EndedAt: 2025-01-30 18:17:48 -0500 (Thu, 30 Jan 2025) EllapsedTime: 14.3 seconds RetCode: 0 Status: OK PackageFile: ctc_1.80.0.tar.gz PackageFileSize: 270.1 KiB