Package: ctc Version: 1.80.0 Command: /Library/Frameworks/R.framework/Resources/bin/R CMD check --install=check:ctc.install-out.txt --library=/Library/Frameworks/R.framework/Resources/library --no-vignettes --timings ctc_1.80.0.tar.gz StartedAt: 2025-01-31 02:20:25 -0500 (Fri, 31 Jan 2025) EndedAt: 2025-01-31 02:21:07 -0500 (Fri, 31 Jan 2025) EllapsedTime: 42.7 seconds RetCode: 0 Status: OK CheckDir: ctc.Rcheck Warnings: 0