Package: ctc Version: 1.80.0 Command: /home/biocbuild/bbs-3.20-bioc/R/bin/R CMD build --keep-empty-dirs --no-resave-data --md5 ctc StartedAt: 2025-01-30 16:52:59 -0500 (Thu, 30 Jan 2025) EndedAt: 2025-01-30 16:53:04 -0500 (Thu, 30 Jan 2025) EllapsedTime: 5.0 seconds RetCode: 0 Status: OK PackageFile: ctc_1.80.0.tar.gz PackageFileSize: 271.3 KiB