Package: ctc Version: 1.80.0 Command: rm -rf ctc.buildbin-libdir && mkdir ctc.buildbin-libdir && F:\biocbuild\bbs-3.20-bioc\R\bin\R.exe CMD INSTALL --build --library=ctc.buildbin-libdir ctc_1.80.0.tar.gz StartedAt: 2025-02-11 08:15:17 -0500 (Tue, 11 Feb 2025) EndedAt: 2025-02-11 08:15:24 -0500 (Tue, 11 Feb 2025) EllapsedTime: 6.8 seconds RetCode: 0 Status: OK PackageFile: ctc_1.80.0.zip PackageFileSize: 140.9 KiB