Package: ctc Version: 1.80.0 Command: /home/biocbuild/R/R/bin/R CMD build --keep-empty-dirs --no-resave-data ctc StartedAt: 2025-01-30 22:56:05 -0000 (Thu, 30 Jan 2025) EndedAt: 2025-01-30 22:56:10 -0000 (Thu, 30 Jan 2025) EllapsedTime: 5.0 seconds RetCode: 0 Status: OK PackageFile: ctc_1.80.0.tar.gz PackageFileSize: 262.5 KiB