Package: ctc Version: 1.80.0 Command: /home/biocbuild/R/R/bin/R CMD INSTALL ctc StartedAt: 2025-02-03 20:21:11 -0000 (Mon, 03 Feb 2025) EndedAt: 2025-02-03 20:21:22 -0000 (Mon, 03 Feb 2025) EllapsedTime: 11.1 seconds RetCode: 0 Status: OK