Package: ctsGE Version: 1.32.0 Command: /Library/Frameworks/R.framework/Resources/bin/R CMD INSTALL ctsGE StartedAt: 2025-02-10 16:42:14 -0500 (Mon, 10 Feb 2025) EndedAt: 2025-02-10 16:42:20 -0500 (Mon, 10 Feb 2025) EllapsedTime: 6.4 seconds RetCode: 0 Status: OK