Package: ctsGE Version: 1.32.0 Command: rm -rf ctsGE.buildbin-libdir && mkdir ctsGE.buildbin-libdir && /Users/biocbuild/BBS/utils/build-universal.sh ctsGE_1.32.0.tar.gz /Library/Frameworks/R.framework/Resources/bin/R ctsGE.buildbin-libdir StartedAt: 2025-02-04 12:45:33 -0500 (Tue, 04 Feb 2025) EndedAt: 2025-02-04 12:45:48 -0500 (Tue, 04 Feb 2025) EllapsedTime: 14.2 seconds RetCode: 0 Status: OK PackageFile: ctsGE_1.32.0.tgz PackageFileSize: 1.168 MiB