Package: ctsGE Version: 1.32.0 Command: /home/biocbuild/bbs-3.20-bioc/R/bin/R CMD check --install=check:ctsGE.install-out.txt --library=/home/biocbuild/bbs-3.20-bioc/R/site-library --timings ctsGE_1.32.0.tar.gz StartedAt: 2025-02-03 21:25:41 -0500 (Mon, 03 Feb 2025) EndedAt: 2025-02-03 21:26:38 -0500 (Mon, 03 Feb 2025) EllapsedTime: 57.0 seconds RetCode: 0 Status: OK CheckDir: ctsGE.Rcheck Warnings: 0