Package: ctsGE Version: 1.32.0 Command: /home/biocbuild/bbs-3.20-bioc/R/bin/R CMD INSTALL ctsGE StartedAt: 2025-02-03 15:40:27 -0500 (Mon, 03 Feb 2025) EndedAt: 2025-02-03 15:40:33 -0500 (Mon, 03 Feb 2025) EllapsedTime: 5.6 seconds RetCode: 0 Status: OK