Package: ctsGE Version: 1.32.0 Command: rm -rf ctsGE.buildbin-libdir && mkdir ctsGE.buildbin-libdir && F:\biocbuild\bbs-3.20-bioc\R\bin\R.exe CMD INSTALL --build --library=ctsGE.buildbin-libdir ctsGE_1.32.0.tar.gz StartedAt: 2025-02-04 08:18:22 -0500 (Tue, 04 Feb 2025) EndedAt: 2025-02-04 08:18:39 -0500 (Tue, 04 Feb 2025) EllapsedTime: 17.0 seconds RetCode: 0 Status: OK PackageFile: ctsGE_1.32.0.zip PackageFileSize: 762.7 KiB