Package: ctsGE Version: 1.32.0 Command: F:\biocbuild\bbs-3.20-bioc\R\bin\R.exe CMD INSTALL ctsGE StartedAt: 2025-02-03 15:53:18 -0500 (Mon, 03 Feb 2025) EndedAt: 2025-02-03 15:53:32 -0500 (Mon, 03 Feb 2025) EllapsedTime: 14.0 seconds RetCode: 0 Status: OK