Package: ctsGE Version: 1.32.0 Command: /home/biocbuild/R/R/bin/R CMD check --install=check:ctsGE.install-out.txt --library=/home/biocbuild/R/R/site-library --no-vignettes --timings ctsGE_1.32.0.tar.gz StartedAt: 2025-02-04 06:04:42 -0000 (Tue, 04 Feb 2025) EndedAt: 2025-02-04 06:05:38 -0000 (Tue, 04 Feb 2025) EllapsedTime: 56.0 seconds RetCode: 0 Status: OK CheckDir: ctsGE.Rcheck Warnings: 0