Package: ctsGE Version: 1.32.0 Command: /home/biocbuild/R/R/bin/R CMD INSTALL ctsGE StartedAt: 2025-02-10 20:41:39 -0000 (Mon, 10 Feb 2025) EndedAt: 2025-02-10 20:41:46 -0000 (Mon, 10 Feb 2025) EllapsedTime: 6.5 seconds RetCode: 0 Status: OK