Package: cummeRbund Version: 2.48.0 Command: /Library/Frameworks/R.framework/Resources/bin/R CMD INSTALL cummeRbund StartedAt: 2025-02-03 16:42:23 -0500 (Mon, 03 Feb 2025) EndedAt: 2025-02-03 16:43:31 -0500 (Mon, 03 Feb 2025) EllapsedTime: 67.9 seconds RetCode: 0 Status: OK