Package: cummeRbund Version: 2.48.0 Command: F:\biocbuild\bbs-3.20-bioc\R\bin\R.exe CMD INSTALL cummeRbund StartedAt: 2025-02-03 16:59:27 -0500 (Mon, 03 Feb 2025) EndedAt: 2025-02-03 17:01:22 -0500 (Mon, 03 Feb 2025) EllapsedTime: 115.3 seconds RetCode: 0 Status: OK