Package: customCMPdb Version: 1.16.0 Command: /Library/Frameworks/R.framework/Resources/bin/R CMD build --keep-empty-dirs --no-resave-data customCMPdb StartedAt: 2025-02-03 18:13:45 -0500 (Mon, 03 Feb 2025) EndedAt: 2025-02-03 18:17:56 -0500 (Mon, 03 Feb 2025) EllapsedTime: 251.4 seconds RetCode: 0 Status: OK PackageFile: customCMPdb_1.16.0.tar.gz PackageFileSize: 693.9 KiB