Package: customCMPdb Version: 1.16.0 Command: /Library/Frameworks/R.framework/Resources/bin/R CMD check --install=check:customCMPdb.install-out.txt --library=/Library/Frameworks/R.framework/Resources/library --no-vignettes --timings customCMPdb_1.16.0.tar.gz StartedAt: 2025-02-04 02:05:06 -0500 (Tue, 04 Feb 2025) EndedAt: 2025-02-04 02:11:08 -0500 (Tue, 04 Feb 2025) EllapsedTime: 361.9 seconds RetCode: 0 Status: OK CheckDir: customCMPdb.Rcheck Warnings: 0