Package: customCMPdb Version: 1.16.0 Command: /Library/Frameworks/R.framework/Resources/bin/R CMD INSTALL customCMPdb StartedAt: 2025-02-03 16:40:46 -0500 (Mon, 03 Feb 2025) EndedAt: 2025-02-03 16:41:24 -0500 (Mon, 03 Feb 2025) EllapsedTime: 37.3 seconds RetCode: 0 Status: OK