Package: customCMPdb Version: 1.16.0 Command: /home/biocbuild/bbs-3.20-bioc/R/bin/R CMD check --install=check:customCMPdb.install-out.txt --library=/home/biocbuild/bbs-3.20-bioc/R/site-library --timings customCMPdb_1.16.0.tar.gz StartedAt: 2025-02-03 21:26:52 -0500 (Mon, 03 Feb 2025) EndedAt: 2025-02-03 21:31:09 -0500 (Mon, 03 Feb 2025) EllapsedTime: 257.2 seconds RetCode: 0 Status: OK CheckDir: customCMPdb.Rcheck Warnings: 0