Package: customCMPdb Version: 1.16.0 Command: rm -rf customCMPdb.buildbin-libdir && mkdir customCMPdb.buildbin-libdir && F:\biocbuild\bbs-3.20-bioc\R\bin\R.exe CMD INSTALL --build --library=customCMPdb.buildbin-libdir customCMPdb_1.16.0.tar.gz StartedAt: 2025-02-04 08:18:31 -0500 (Tue, 04 Feb 2025) EndedAt: 2025-02-04 08:18:58 -0500 (Tue, 04 Feb 2025) EllapsedTime: 27.5 seconds RetCode: 0 Status: OK PackageFile: customCMPdb_1.16.0.zip PackageFileSize: 691 KiB