Package: customCMPdb Version: 1.16.0 Command: chmod a+r customCMPdb -R && F:\biocbuild\bbs-3.20-bioc\R\bin\R.exe CMD build --keep-empty-dirs --no-resave-data customCMPdb StartedAt: 2025-02-03 18:27:03 -0500 (Mon, 03 Feb 2025) EndedAt: 2025-02-03 18:29:37 -0500 (Mon, 03 Feb 2025) EllapsedTime: 154.1 seconds RetCode: 0 Status: OK PackageFile: customCMPdb_1.16.0.tar.gz PackageFileSize: 650.5 KiB