Package: customCMPdb Version: 1.16.0 Command: F:\biocbuild\bbs-3.20-bioc\R\bin\R.exe CMD INSTALL customCMPdb StartedAt: 2025-02-03 16:21:18 -0500 (Mon, 03 Feb 2025) EndedAt: 2025-02-03 16:21:44 -0500 (Mon, 03 Feb 2025) EllapsedTime: 25.7 seconds RetCode: 0 Status: OK