Package: customProDB Version: 1.46.0 Command: /Library/Frameworks/R.framework/Resources/bin/R CMD INSTALL customProDB StartedAt: 2025-02-03 16:21:50 -0500 (Mon, 03 Feb 2025) EndedAt: 2025-02-03 16:22:42 -0500 (Mon, 03 Feb 2025) EllapsedTime: 51.7 seconds RetCode: 0 Status: OK