Package: customProDB Version: 1.46.0 Command: rm -rf customProDB.buildbin-libdir && mkdir customProDB.buildbin-libdir && /Users/biocbuild/BBS/utils/build-universal.sh customProDB_1.46.0.tar.gz /Library/Frameworks/R.framework/Resources/bin/R customProDB.buildbin-libdir StartedAt: 2025-02-04 12:45:41 -0500 (Tue, 04 Feb 2025) EndedAt: 2025-02-04 12:47:17 -0500 (Tue, 04 Feb 2025) EllapsedTime: 95.7 seconds RetCode: 0 Status: OK PackageFile: customProDB_1.46.0.tgz PackageFileSize: 717.2 KiB