Package: customProDB Version: 1.46.0 Command: /Library/Frameworks/R.framework/Resources/bin/R CMD build --keep-empty-dirs --no-resave-data customProDB StartedAt: 2025-02-03 18:14:15 -0500 (Mon, 03 Feb 2025) EndedAt: 2025-02-03 18:16:54 -0500 (Mon, 03 Feb 2025) EllapsedTime: 158.8 seconds RetCode: 0 Status: OK PackageFile: customProDB_1.46.0.tar.gz PackageFileSize: 540.3 KiB