Package: customProDB Version: 1.46.0 Command: /Library/Frameworks/R.framework/Resources/bin/R CMD check --install=check:customProDB.install-out.txt --library=/Library/Frameworks/R.framework/Resources/library --no-vignettes --timings customProDB_1.46.0.tar.gz StartedAt: 2025-02-04 02:05:27 -0500 (Tue, 04 Feb 2025) EndedAt: 2025-02-04 02:17:17 -0500 (Tue, 04 Feb 2025) EllapsedTime: 709.9 seconds RetCode: 0 Status: WARNINGS CheckDir: customProDB.Rcheck Warnings: 1