Package: customProDB Version: 1.46.0 Command: /home/biocbuild/bbs-3.20-bioc/R/bin/R CMD INSTALL customProDB StartedAt: 2025-02-03 15:36:15 -0500 (Mon, 03 Feb 2025) EndedAt: 2025-02-03 15:36:57 -0500 (Mon, 03 Feb 2025) EllapsedTime: 42.5 seconds RetCode: 0 Status: OK