Package: customProDB
Version: 1.45.0
Command: F:\biocbuild\bbs-3.20-bioc\R\bin\R.exe CMD check --no-multiarch --install=check:customProDB.install-out.txt --library=F:\biocbuild\bbs-3.20-bioc\R\library --no-vignettes --timings customProDB_1.45.0.tar.gz
StartedAt: 2024-06-10 01:30:18 -0400 (Mon, 10 Jun 2024)
EndedAt: 2024-06-10 01:36:26 -0400 (Mon, 10 Jun 2024)
EllapsedTime: 367.4 seconds
RetCode: 0
Status: WARNINGS
CheckDir: customProDB.Rcheck
Warnings: 1