Package: customProDB Version: 1.46.0 Command: F:\biocbuild\bbs-3.20-bioc\R\bin\R.exe CMD INSTALL customProDB StartedAt: 2025-02-03 16:54:44 -0500 (Mon, 03 Feb 2025) EndedAt: 2025-02-03 16:55:47 -0500 (Mon, 03 Feb 2025) EllapsedTime: 62.7 seconds RetCode: 0 Status: OK